BEGIN:VCALENDAR
VERSION:2.0
PRODID:-//Contratero//ES
CALSCALE:GREGORIAN
METHOD:PUBLISH
BEGIN:VEVENT
UID:CON 04/2025 NE EX@contratero.es
DTSTAMP:20260422T182231Z
DTSTART:20250225T235959
DTEND:20250226T005959
SUMMARY:Cierre: Contratación de los servicios de Upgrade a Windows
DESCRIPTION:Contratación de los servicios de Upgrade a Windows 11 de la actual licencia Editran y 1 licencia abierta Windows 11 período 21/01/2025 a 21/01/2026\\n\\nOrganismo: Junta de Gobierno del Ayuntamiento de Aranjuez\\n\\nVer en Contratero: https://contratero.es/contracts/CON 04/2025 NE EX
URL:https://contratero.es/contracts/CON 04/2025 NE EX
STATUS:CONFIRMED
BEGIN:VALARM
TRIGGER:-P1D
ACTION:DISPLAY
DESCRIPTION:Recordatorio: Contratación de los servicios 
END:VALARM
END:VEVENT
END:VCALENDAR